BEGIN:VCALENDAR
VERSION:2.0
PRODID:-//Plone.org//NONSGML plone.app.event//EN
X-WR-TIMEZONE:Brazil/East
BEGIN:VEVENT
SUMMARY:SESSÃO SOLENE
DTSTART;TZID=Brazil/East;VALUE=DATE-TIME:20230215T200000
DTSTAMP;VALUE=DATE-TIME:20260422T072655Z
UID:3320b48bc40a40bcbd7f84db2b8fda21@www.bariri.sp.leg.br
CREATED;VALUE=DATE-TIME:20230214T141548Z
LAST-MODIFIED;VALUE=DATE-TIME:20230214T141551Z
URL:https://www.bariri.sp.leg.br/institucional/eventos/sessao-solene
END:VEVENT
BEGIN:VTIMEZONE
TZID:Brazil/East
X-LIC-LOCATION:Brazil/East
BEGIN:DAYLIGHT
DTSTART;VALUE=DATE-TIME:20221016T010000
TZNAME:BRST
TZOFFSETFROM:-0300
TZOFFSETTO:-0200
END:DAYLIGHT
END:VTIMEZONE
END:VCALENDAR
